BEGIN:VCALENDAR
VERSION:2.0
PRODID:-//wp-events-plugin.com//7.2.3.1//EN
TZID:Europe/Paris
X-WR-TIMEZONE:Europe/Paris
BEGIN:VEVENT
UID:1@lotus-rhonealpes.fr
DTSTART;TZID=Europe/Paris:20260208T120000
DTEND;TZID=Europe/Paris:20260208T163000
DTSTAMP:20260207T170115Z
URL:https://lotus-rhonealpes.fr/sorties/sortie-01-restaurant/
SUMMARY:Sortie #01 : Restaurant
DESCRIPTION:
END:VEVENT
BEGIN:VTIMEZONE
TZID:Europe/Paris
X-LIC-LOCATION:Europe/Paris
BEGIN:STANDARD
DTSTART:20251026T020000
TZOFFSETFROM:+0200
TZOFFSETTO:+0100
TZNAME:CET
END:STANDARD
END:VTIMEZONE
END:VCALENDAR