BEGIN:VCALENDAR
VERSION:2.0
PRODID:-//wp-events-plugin.com//7.2.3.1//EN
TZID:Europe/Paris
X-WR-TIMEZONE:Europe/Paris
BEGIN:VEVENT
UID:2@lotus-rhonealpes.fr
DTSTART;TZID=Europe/Paris:20260308T100000
DTEND;TZID=Europe/Paris:20260308T130000
DTSTAMP:20260221T172104Z
URL:https://lotus-rhonealpes.fr/sorties/sortie-02-karting/
SUMMARY:Sortie #02 : Karting
DESCRIPTION:Comme chaque année\, le bureau organise la traditionnelle sort
 ie karting.\n\nCette fois-ci c’est la piste d’Actua Karting à Saint L
 aurent de Mure qui a été choisie.\n\nL'activité se déroulera le dimanc
 he 08/03 à partir de 10h. Accessible à partir de 16 ans et 1m50.\n\nKart
 ing : SuperKart 4T de 390cc\n\nDéroulement :\n\n- Accueil\, Briefing\n\n-
  12 minutes d'essais libres\n\n- 12 minutes d'essais chronométrés\n\n- D
 étermination de la grille de départ\n\n- Course sur 14 tours\n\nInscript
 ion ici\n\nLes inscriptions sont attendues pour le 22 février au plus tar
 d.
LOCATION:Actua Karting\, La Savane – Chemin de Fournéa\, Saint Laurent d
 e Mure\, 69720\, France
X-APPLE-STRUCTURED-LOCATION;VALUE=URI;X-ADDRESS=La Savane – Chemin de Fou
 rnéa\, Saint Laurent de Mure\, 69720\, France;X-APPLE-RADIUS=100;X-TITLE=
 Actua Karting:geo:0,0
END:VEVENT
BEGIN:VTIMEZONE
TZID:Europe/Paris
X-LIC-LOCATION:Europe/Paris
BEGIN:STANDARD
DTSTART:20251026T020000
TZOFFSETFROM:+0200
TZOFFSETTO:+0100
TZNAME:CET
END:STANDARD
END:VTIMEZONE
END:VCALENDAR