BEGIN:VCALENDAR
VERSION:2.0
PRODID:-//wp-events-plugin.com//7.2.3.1//EN
TZID:Europe/Paris
X-WR-TIMEZONE:Europe/Paris
BEGIN:VEVENT
UID:3@lotus-rhonealpes.fr
DTSTART;TZID=Europe/Paris:20260329T080000
DTEND;TZID=Europe/Paris:20260329T180000
DTSTAMP:20260221T171810Z
URL:https://lotus-rhonealpes.fr/sorties/sortie-03-circuit-lurcy-levy-avec-
 le-clf/
SUMMARY:Sortie #03 : Circuit Lurcy Levy avec le CLF
DESCRIPTION:Voici le lien pour les inscriptions\, le club regroupe les noms
  des personnes motivés pour cette sortie ici\n\nIl faut surtout s'inscrir
 e sur le site du CLF ici\n\n&nbsp\;
END:VEVENT
BEGIN:VTIMEZONE
TZID:Europe/Paris
X-LIC-LOCATION:Europe/Paris
BEGIN:DAYLIGHT
DTSTART:20260329T030000
TZOFFSETFROM:+0100
TZOFFSETTO:+0200
TZNAME:CEST
END:DAYLIGHT
END:VTIMEZONE
END:VCALENDAR