BEGIN:VCALENDAR
VERSION:2.0
PRODID:-//wp-events-plugin.com//7.2.3.1//EN
TZID:Europe/Paris
X-WR-TIMEZONE:Europe/Paris
BEGIN:VEVENT
UID:7@lotus-rhonealpes.fr
DTSTART;TZID=Europe/Paris:20260625T000000
DTEND;TZID=Europe/Paris:20260626T000000
DTSTAMP:20260221T171325Z
URL:https://lotus-rhonealpes.fr/sorties/sortie-07-a-definir/
SUMMARY:Sortie #07
DESCRIPTION:Sortie organisée par Eric et Martine Hazak.\n\nSortie sur 1 ou
  2 jours en semaine
END:VEVENT
BEGIN:VTIMEZONE
TZID:Europe/Paris
X-LIC-LOCATION:Europe/Paris
BEGIN:DAYLIGHT
DTSTART:20260329T030000
TZOFFSETFROM:+0100
TZOFFSETTO:+0200
TZNAME:CEST
END:DAYLIGHT
END:VTIMEZONE
END:VCALENDAR